BEGIN:VCALENDAR
VERSION:2.0
PRODID:-//hacksw/handcal//NONSGML v1.0//EN
CALSCALE:GREGORIAN
BEGIN:VTIMEZONE
TZID:America/New_York
BEGIN:DAYLIGHT
TZOFFSETFROM:-0600
TZNAME:MDT
TZOFFSETTO:-0600
END:DAYLIGHT
END:VTIMEZONE
DTSTAMP:20260423T113522Z
UID:69ea3c3a85465
BEGIN:VEVENT
DESCRIPTION:<p>Our spring series will be all about important anniversaries in American History! Our speakers will discuss books about events during 1776, 1826, 1876, 1926, and 1976 on April 1, 8, 15, 22, &amp; 29 at 12:10pm.</p><p>April 1: Tim McCorry reviews <em>Declaring Independence: Why 1776 Matters</em> by Edward Larson</p><p>April 8: Richard Beatty reviews <em>Red Jacket: Iroquois Diplomat and Orator</em> by Christopher Densmore</p><p>April 15: Ron Chrzanowski reviews <em>The Summer of 1876: Outlaws, Lawmen, and Legends in the Season that Defined the American West </em>by Chris Wimmer</p><p>April 22: Peter Wisbey reviews <em>Sesqui!: Greed, Graft, and the Forgotten World's Fair of 1926 </em>by Thomas H. Keels</p><p>April 29: Jason Smith reviews <em>The American Bicentennial: A Cultural History </em>by Lawrence R. Samuel</p>
DTSTART;TZID=America/New_York:20260429T121000
DTEND;TZID=America/New_York:20260429T130000
SUMMARY:Books Sandwiched In Spring 2026
URL;VALUE=URI:/books-sandwiched-spring-2026-9
END:VEVENT
END:VCALENDAR