BEGIN:VCALENDAR
VERSION:2.0
PRODID:-//hacksw/handcal//NONSGML v1.0//EN
CALSCALE:GREGORIAN
BEGIN:VTIMEZONE
TZID:America/New_York
BEGIN:DAYLIGHT
TZOFFSETFROM:-0600
TZNAME:MDT
TZOFFSETTO:-0600
END:DAYLIGHT
END:VTIMEZONE
DTSTAMP:20260423T113349Z
UID:69ea3bddca2b2
BEGIN:VEVENT
DESCRIPTION:<p>Join us every Thursday @ 10:00 am for stories! Ages 0-5 are welcome!</p>
DTSTART;TZID=America/New_York:20261015T100000
DTEND;TZID=America/New_York:20261015T103000
SUMMARY:Children's Thursday Story Time
URL;VALUE=URI:/childrens-thursday-story-time-37
END:VEVENT
END:VCALENDAR