BEGIN:VCALENDAR
VERSION:2.0
PRODID:-//hacksw/handcal//NONSGML v1.0//EN
CALSCALE:GREGORIAN
BEGIN:VTIMEZONE
TZID:America/New_York
BEGIN:DAYLIGHT
TZOFFSETFROM:-0600
TZNAME:MDT
TZOFFSETTO:-0600
END:DAYLIGHT
END:VTIMEZONE
DTSTAMP:20260423T113224Z
UID:69ea3b8828b14
BEGIN:VEVENT
DESCRIPTION:<p>Join us every Thursday @ 10:00 am for stories! Ages 0-5 are welcome!</p>
DTSTART;TZID=America/New_York:20260917T100000
DTEND;TZID=America/New_York:20260917T103000
SUMMARY:Children's Thursday Story Time
URL;VALUE=URI:/childrens-thursday-story-time-37
END:VEVENT
END:VCALENDAR